BEGIN:VCALENDAR
VERSION:2.0
X-WR-CALNAME:www.indybay.org
PRODID:-//indybay/ical// v1.0//EN
BEGIN:VEVENT
UID:Indybay-18717906
SEQUENCE:18814595
CREATED:20120720T164000Z
DESCRIPTION:Bitter Cane was filmed clandestinely in Haiti in the 1970s during the 
 Duvalier dictatorship. It accurately portrays the conditions and repression 
 under which Haitians lived at that time. With the recent policies promoted 
 by the fraudulently "selected" Martelly government, many Haitians fear the 
 repeat of these terrible times. Join Haiti Action Committee for the film 
 and discussion about Haiti, past and present.\n\nSuggested donation $5-$10. 
 No one turned away. \nWheelchair accessible.\n\nFor occasional email 
 notices of peace/eco/social justice alerts and related events at BFUU, send 
 any email to:\nbfuusjev-subscribe@lists.riseup.net\n\nFor weekly notices of 
 BFUU services etc. go to:\nwww.bfuu.org/signup.html\n\n 
 https://www.indybay.org/newsitems/2012/07/20/18717906.php
SUMMARY:Screening of: Bitter Cane- Haiti under the Duvaliers
LOCATION:Berkeley Fellowship of Unitarian Universalists’ Hall \n1924 Cedar 
 (@Bonita), Berkeley   www.bfuu.org\n
URL:https://www.indybay.org/newsitems/2012/07/20/18717906.php
DTSTART:20120803T020000Z
DTEND:20120803T040000Z
END:VEVENT
END:VCALENDAR
