BEGIN:VCALENDAR
VERSION:2.0
X-WR-CALNAME:www.indybay.org
PRODID:-//indybay/ical// v1.0//EN
BEGIN:VEVENT
UID:Indybay-18717028
SEQUENCE:18814507
CREATED:20120706T173600Z
DESCRIPTION:Our Vanishing Civil Liberties\nSunday, July 29, 1 PM\nUnitarian 
 Universalist Center\n1187 Franklin St. (at Geary)\nFree, Wheelchair 
 Accessible \n# 38 bus, not 38L\n\nOur Vanishing Civil Liberties\n\nLast New 
 Year's Eve, President Obama signed the NDAA (National Defense Authorization 
 Act) for 2012. Through this law:\n\n• The government can label you a 
 terrorist, arrest you without charges, and hold you without trial, merely 
 on suspicion of association with terrorist groups. The language in this 
 part of the NDAA is so vague that it can be applied to anyone;\n\n• The 
 armed forces can detain you indefinitely, whether or not you are a US 
 citizen; \n\n• You can be denied the right to a lawyer and due 
 process;\n\n• You can be sent away to a foreign country, where you may be 
 imprisoned and/or tortured with no legal recourse.\n\nThe 2013 NDAA is 
 being debated in Congress this summer.  Please spread the word and join us 
 to learn about this attack on our civil liberties and what you can 
 do.\n\nSpeakers: \n\n* Shahid Buttar, Executive Director, Bill of Rights 
 Defense Committee\n* Nancy Mancias, Code Pink Accountability Campaigner\n* 
 Grace Shimizu, Asian Americans for Peace and Justice\n* a representative of 
 AROC, Arab Resource and Organizing Center\n\nThis Forum is also being 
 presented in Oakland: Tuesday, July 31, 7 PM, Oakland Peace Center, 111 
 Fairmount Ave. at 29th, off Broadway. ($10 donation requested but nobody 
 turned away. Speakers list is different.)\n\nSponsors: San Francisco 99% 
 Coalition, East Bay Social Forum, Asian Americans for Peace & Justice, 
 CodePink, Bill of Rights Defense Committee, Movement for a Democratic 
 Society-Bay Area.\n\nFor more info: leave a voice mail at: 415-404-9973 
 (404-99SF) or go to web site: http://sf99percent.org/\n\nFor press or 
 urgent information, please call Dolores Priam, at 415-595-7306\n 
 https://www.indybay.org/newsitems/2012/07/06/18717028.php
SUMMARY:Our Vanishing Civil Liberties
LOCATION:Unitarian Universalist Center\n1187 Franklin St. (at Geary)\n# 38 bus, not 
 38L
URL:https://www.indybay.org/newsitems/2012/07/06/18717028.php
DTSTART:20120729T200000Z
DTEND:20120729T220000Z
END:VEVENT
END:VCALENDAR
