BEGIN:VCALENDAR
VERSION:2.0
X-WR-CALNAME:www.indybay.org
PRODID:-//indybay/ical// v1.0//EN
BEGIN:VEVENT
UID:Indybay-18716875
SEQUENCE:18813117
CREATED:20120704T000400Z
DESCRIPTION:Five members of the Greig family of Palo Alto will explore the role 
 volunteering can play in career development. A local family whose careers 
 were influenced by their early commitment to volunteer work, the Griegs 
 will share their stories and explore the benefits of stepping into areas 
 completely new to them. Whether the volunteer experience was Peace Corps 
 work overseas or unpaid internships locally, their life/work stories speak 
 to the benefits of taking some time to explore new areas by volunteering. 
 Their careers and their community involvement were launched in their early 
 volunteering experiences.\n 
 https://www.indybay.org/newsitems/2012/07/03/18716875.php
SUMMARY:How Volunteering Can Lead to Your Dream Job
LOCATION:Commonwealth Club of California; 595 Market St. (2nd floor) @ Second St.; 
 San Francisco, CA 94105
URL:https://www.indybay.org/newsitems/2012/07/03/18716875.php
DTSTART:20120828T010000Z
DTEND:20120828T020000Z
END:VEVENT
END:VCALENDAR
