BEGIN:VCALENDAR
VERSION:2.0
X-WR-CALNAME:www.indybay.org
PRODID:-//indybay/ical// v1.0//EN
BEGIN:VEVENT
UID:Indybay-18716226
SEQUENCE:18812222
CREATED:20120625T170900Z
DESCRIPTION:Weekly silent vigil to protest U.S. military aid to Israel, used to oppress 
 Palestinian people and people of color in general.  We make the connection 
 between unreasonable military expenditures by our government  and the 
 increasing lack of resources in our own community.\n 
 https://www.indybay.org/newsitems/2012/06/25/18716226.php
SUMMARY:Silent Vigil: Bay Area Women in Black
LOCATION:Corner of Lake Park & Grand Aves., Oakland, in front of the Grand Lake 
 Theater
URL:https://www.indybay.org/newsitems/2012/06/25/18716226.php
DTSTART:20120630T190000Z
DTEND:20120630T200000Z
END:VEVENT
END:VCALENDAR
