BEGIN:VCALENDAR
VERSION:2.0
X-WR-CALNAME:www.indybay.org
PRODID:-//indybay/ical// v1.0//EN
BEGIN:VEVENT
UID:Indybay-18716120
SEQUENCE:18812014
CREATED:20120623T194400Z
DESCRIPTION:\n https://www.indybay.org/newsitems/2012/06/23/18716120.php
SUMMARY:Socialist Equality Party Holding Public Meeting 6/26
LOCATION:Socialist Equality Party Public Meeting:\n\nTuesday, June 26th (6:00pm) at 
 Valley Hi-North Laguna Library (7400 Imagination Pkwy, Sacramento) to 
 discuss socialism, the California Budget Crisis, and the 2012 elections!
URL:https://www.indybay.org/newsitems/2012/06/23/18716120.php
DTSTART:20120627T010000Z
DTEND:20120627T010000Z
END:VEVENT
END:VCALENDAR
