BEGIN:VCALENDAR
VERSION:2.0
X-WR-CALNAME:www.indybay.org
PRODID:-//indybay/ical// v1.0//EN
BEGIN:VEVENT
UID:Indybay-18716116
SEQUENCE:18811996
CREATED:20120623T173500Z
DESCRIPTION:Please join us to celebrate the last day of the LaborFest with food, music 
 and poetry. \nSee also:\nhttp://www.laborfest.net/2012/2012schedule.htm\n 
 https://www.indybay.org/newsitems/2012/06/23/18716116.php
SUMMARY:Laborfest: Closing Party
LOCATION:518 Valencia - near 16th St., San Francisco. 16th St BART.\n
URL:https://www.indybay.org/newsitems/2012/06/23/18716116.php
DTSTART:20120801T020000Z
DTEND:20120801T040000Z
END:VEVENT
END:VCALENDAR
