BEGIN:VCALENDAR
VERSION:2.0
X-WR-CALNAME:www.indybay.org
PRODID:-//indybay/ical// v1.0//EN
BEGIN:VEVENT
UID:Indybay-18716115
SEQUENCE:18811995
CREATED:20120623T173300Z
DESCRIPTION:The Present Is The Past: Occupying The Commons\nBy David Duckworth\n 
 Author, instructor and lecturer David Duckworth explores significant 
 moments in American history when political redress employed the occupation 
 of visible space.  Marches of the unemployed, such as the Industrial Armies 
 marching on Washington in 1894, and labor-oriented demands, such as the 
 Ludlow, Colorado miners’ strike of 1914 and Bonus March of 1932, show us 
 that the Occupy Movement of today draws from a long tradition of political 
 protest.  Duckworth’s writings on this theme can be found at 
 http://dpduckworth.wordpress.com.  His writings appear in Film and History 
 and The International Review of African American Art.  For recommended 
 reading on July 30th, visit http://thegreenarcade.com.\nSee 
 also:\nhttp://en.wikipedia.org/wiki/Ludlow_Massacre#Strike\nhttp://en.wikipedia.org/wiki/Bonus_Army\nhttp://www.laborfest.net/2012/2012schedule.htm\n 
 https://www.indybay.org/newsitems/2012/06/23/18716115.php
SUMMARY:Laborfest: Occupying The Commons
LOCATION:The Green Arcade Bookstore - 1680 Market St. at Gough St., San Francisco.  
 Civic Center and Van Ness BART stations.  All buses going on or under 
 Market and Mission Streets to Van Ness. Buses: 6, 21, 49, 47. 71\n
URL:https://www.indybay.org/newsitems/2012/06/23/18716115.php
DTSTART:20120731T010000Z
DTEND:20120731T030000Z
END:VEVENT
END:VCALENDAR
