BEGIN:VCALENDAR
VERSION:2.0
X-WR-CALNAME:www.indybay.org
PRODID:-//indybay/ical// v1.0//EN
BEGIN:VEVENT
UID:Indybay-18716114
SEQUENCE:18811994
CREATED:20120623T172600Z
DESCRIPTION:Honor The Workers Building Our Bridges\nUniversity of Iron & The 
 Ironworkers Who Are Building The Eastern Span of The San Francisco Bay 
 Bridge\n Learn about Ironworkers and their work at the Ironworkers 
 Apprentice Training Center “University of Iron”.\nThe Ironworkers 
 Apprentice Training Center in Benicia trains the workers who are building 
 our bridges and infrastructure. Watch a slide show of the workers building 
 the Eastern Span by labor process photographer Joseph Blum. There will be a 
 screening of “Halfway To Hell, The Workers And Unions That Built The 
 Golden Gate Bridge” narrated by Danny Glover and “Hanging Iron After 
 the Quake Of ‘89”.\nThere will also be tours of the center to learn 
 about the training and education of the workers who build our 
 country.\nhttp://www.universityofiron.org\nSee 
 also:\nhttp://www.ironworking.com/pic_jblum.html\nhttp://www.laborfest.net/2012/2012schedule.htm\n 
 https://www.indybay.org/newsitems/2012/06/23/18716114.php
SUMMARY:Laborfest: Honor Labor Building Our Bridges
LOCATION:Ironworkers Training Center - 3150 Bay Shore Rd., Benicia \n
URL:https://www.indybay.org/newsitems/2012/06/23/18716114.php
DTSTART:20120729T200000Z
DTEND:20120729T230000Z
END:VEVENT
END:VCALENDAR
