BEGIN:VCALENDAR
VERSION:2.0
X-WR-CALNAME:www.indybay.org
PRODID:-//indybay/ical// v1.0//EN
BEGIN:VEVENT
UID:Indybay-18715586
SEQUENCE:18811042
CREATED:20120616T225900Z
DESCRIPTION:6/23 SF Forum: Where Is The Real Malfeasance And Corruption In San 
 Francisco City  Government\n\nWhere Is The Real Malfeasance And Corruption 
 In San Francico City \nGovernment? A Forum\nSaturday June 23, 2012 10:30 
 AM\nLatino Room A Lower Floor\nMain Public Library\n100 Larkin St. San 
 Francisco\n\nWhile hundreds of thousands of city tax dollars are being 
 spent in a \nretaliatory political witch hunt against suspended Sheriff 
 Ross Mirkarimi, \nthe real corruption and malfeasance in the  City Of San 
 Francisco is being covered\nup.\nThis educational forum will have speakers 
 who will tell the real truth \nabout about where this malfeasance is in San 
 Francisco and who and why it\nis being covered up.\n\nSpeakers 
 Include\n\nLois Scott, Past president IFPTE Local 21 on Micki Callahan and 
 the \nHuman Resources Department\nDorian Maxwell, Fired TWU 250 A MTA MUNI 
 Osha whistlblower on the \ncover-up in Muni and the Mayor's office\nCecilia 
 Jaroslawsk, IFPTE Local 21 San Francisco Senior Planner who is \nfighting 
 systemic discrimination against senior workers\nDr. Maria Rivero and Dr. 
 Kerr Derrick on Corruption At Laguna Honda \nHospital And The Cover-up by 
 City Management and the Ethics Commission\nBrenda Barros, SEIU 1021 
 Member\nRoss Mirkarimi, Former SF Supervisor and SF Sheriff fighting for 
 his \njob back.\n\nSponsored by\nUnited Public Workers For Action 
 UPWA\nwww.upwa.info\nFor Information\n(415)282-1908\n 
 https://www.indybay.org/newsitems/2012/06/16/18715586.php
SUMMARY:6/23 SF Forum: Where Is The Real Malfeasance And Corruption In SF City Gov
LOCATION:Latino Rm A\nSan Francisco Main Library\n100 Larkin St.\nSan Francisco
URL:https://www.indybay.org/newsitems/2012/06/16/18715586.php
DTSTART:20120623T173000Z
DTEND:20120623T193000Z
END:VEVENT
END:VCALENDAR
