BEGIN:VCALENDAR
VERSION:2.0
X-WR-CALNAME:www.indybay.org
PRODID:-//indybay/ical// v1.0//EN
BEGIN:VEVENT
UID:Indybay-18715105
SEQUENCE:18810327
CREATED:20120610T161400Z
DESCRIPTION:Please come to this meeting and speak up about these Police agreements. 
 Public Comment usually is held first. If you don't want to speak you could 
 give your time to another speaker.\n\nCouncil will be deciding on whether 
 or not to continue these illegal, because merely verbal, agreements between 
 the Berkeley police and Homeland Security. NCRIC (Northern California 
 Regional Intelligence Center) is intelligence gathering and includes 
 sending SARs (Suspicious Activity Reports) to the Feds, and UASI (Urban 
 Areas Security Initiative) is urban warfare training and funding (including 
 funding the armored vehicle which Berkeley wants to share with Albany and 
 U.C.)\n https://www.indybay.org/newsitems/2012/06/10/18715105.php
SUMMARY:Berkeley City Council to consider police department agreements with Feds
LOCATION:Berkeley Old City Hall, M.L.King, Jr. Way @ Center St.
URL:https://www.indybay.org/newsitems/2012/06/10/18715105.php
DTSTART:20120620T020000Z
DTEND:20120620T050000Z
END:VEVENT
END:VCALENDAR
