BEGIN:VCALENDAR
VERSION:2.0
X-WR-CALNAME:www.indybay.org
PRODID:-//indybay/ical// v1.0//EN
BEGIN:VEVENT
UID:Indybay-18714829
SEQUENCE:18809779
CREATED:20120605T220300Z
DESCRIPTION:This June's "Green Sunday" will feature Dan Siegel, the noted civil rights 
 attorney, talking about the effects of the Occupy movement on our civil 
 rights and civil liberties. Already our movement has been facing attacks on 
 our right to protest and the militarization of our local police forces. We 
 look forward to an informative talk and a lively discussion on how to 
 respond.\n\nRecently, during legal proceedings between the Regents of the 
 University of California and the Gill Tract Farmers Collective, Dan Siegel 
 gave a presentation to the Court about “Occupy the Farm” in 
 Albany:\n\n“When defense lawyer Dan Siegel spoke, he made no argument as 
 to whether or not the Farmers had or had not entered the land in question, 
 though he did note that there was no evidence that several of the named 
 parties had been on the land. Rather, his argument rested on the contours 
 of the land itself, whether or not the land is ‘private’ or 
 ‘public,’ and the charge that the UC has the means to remedy the 
 problem without seeking injunctive relief from the Court. “I am amused by 
 the characterization of the property as private property,” Siegel said. 
 “Unless something remarkable has happened in the last 48 hours, the Gill 
 Tract is no more private property than this courthouse is. The Regents are 
 stewards of public property, they do not own the property,” Siegel 
 said.”\nSee: 
 http://www.indybay.org/newsitems/2012/06/02/18714576.php\n\nSee 
 also:\nhttp://www.takebackthetract.com 
 and\nhttp://www.siegelyee.com/dansiegel.html\n 
 https://www.indybay.org/newsitems/2012/06/05/18714829.php
SUMMARY:Attorney Dan Siegel on Effects of the Occupy Movement
LOCATION:LOCATION: Niebyl-Proctor Library, 6501 Telegraph Ave. at 65th in North 
 Oakland.\n\nDIRECTIONS: One block north of Alcatraz on the West side of 
 Telegraph, wheelchair accessible. Buses pass by regularly. Ashby BART is 
 approximately 7 blocks away. 
URL:https://www.indybay.org/newsitems/2012/06/05/18714829.php
DTSTART:20120611T000000Z
DTEND:20120611T013000Z
END:VEVENT
END:VCALENDAR
