BEGIN:VCALENDAR
VERSION:2.0
X-WR-CALNAME:www.indybay.org
PRODID:-//indybay/ical// v1.0//EN
BEGIN:VEVENT
UID:Indybay-18714604
SEQUENCE:18809473
CREATED:20120603T081300Z
DESCRIPTION:Defending Democracy: Facing Modern Barriers to Voting\nSecond in the Asian 
 Law Caucus Summer Brown Bag Series\nWednesday, June 27, 12:00 PM – 1:30 
 PM\n55 Columbus Ave.\n(betw. Montgomery & Kearny / Washington & 
 Jackson)\nMap of location http://tinyurl.com/7nnunjh\n(# 1, 8, 8X, 10, 12 
 buses)\n\nCarlo De La Cruz, Voting Rights Coordinator\nCarolyn Hsu, Voting 
 Rights Fellow\n\nWe will present our ongoing elections protection work in 
 the Bay Area and nationally for the 2012 elections. We will also examine 
 the historic trends of voter disenfranchisement in the Asian and Pacific 
 Islander (API) community, with particular attention to the recent passage 
 of numerous state laws that threaten to disenfranchise over 3.2 million 
 voters of color in the 2012 election. \n\nDespite landmark victories, such 
 as the Voting Rights Act and the Help America Vote Act, communities of 
 color still face exclusionary practices in the voting system. Both explicit 
 and subtle forms of disenfranchisement prevents many APIs from voting, 
 especially those with limited English proficiency. \n\nSponsored by Asian 
 Law Caucus \n\nDownload a poster describing all the talks in this 
 series:\nhttp://tinyurl.com/7btqspg\n 
 https://www.indybay.org/newsitems/2012/06/03/18714604.php
SUMMARY:Defending Democracy: Facing Modern Barriers to Voting
LOCATION:55 Columbus Ave.\n(betw. Montgomery & Kearny / Washington & Jackson)\nMap 
 of location http://tinyurl.com/7nnunjh\n(# 1, 8, 8X, 10, 12 buses)
URL:https://www.indybay.org/newsitems/2012/06/03/18714604.php
DTSTART:20120627T190000Z
DTEND:20120627T203000Z
END:VEVENT
END:VCALENDAR
