BEGIN:VCALENDAR
VERSION:2.0
X-WR-CALNAME:www.indybay.org
PRODID:-//indybay/ical// v1.0//EN
BEGIN:VEVENT
UID:Indybay-18714436
SEQUENCE:18809147
CREATED:20120531T085400Z
DESCRIPTION:All Queen line up starring Grammy Nominated Maimouna Youssef , Isa Starr, 
 Queen Nyoka, Fajr Scott, and Afrykah Wubsauda!\n 
 https://www.indybay.org/newsitems/2012/05/31/18714436.php
SUMMARY:Brown Suga Serenades
LOCATION:Humanist Hall\n390 27th Street\nOakland, Ca
URL:https://www.indybay.org/newsitems/2012/05/31/18714436.php
DTSTART:20120608T020000Z
DTEND:20120608T140000Z
END:VEVENT
END:VCALENDAR
