BEGIN:VCALENDAR
VERSION:2.0
X-WR-CALNAME:www.indybay.org
PRODID:-//indybay/ical// v1.0//EN
BEGIN:VEVENT
UID:Indybay-18714092
SEQUENCE:18808612
CREATED:20120525T162100Z
DESCRIPTION:June 5: National Day of Justice for Trayvon!\n\nJune 5 will be 100 days 
 since George Zimmerman, a vigilante, wannabe cop murdered Trayvon Martin. 
 100 days since Zimmerman racially profiled Trayvon Martin, stalked him and 
 gunned him down. It took weeks of people all over the country taking to the 
 streets in outrage to force the authorities to arrest Zimmerman and charge 
 him for murdering Trayvon. We cannot stop now! Justice for Trayvon! Take to 
 the streets!\n\nThe killing of Trayvon Martin and the 2.4 million in prison 
 make clear that there is a whole generation of Black and Latino youth who 
 have been marked and treated as a “generation of suspects” to be 
 murdered and jailed. This is not an issue for Black people alone but for 
 all who care about justice; it is not a random tragedy. We say NO 
 MORE!\n\nMASS INCARCERATION + SILENCE = GENOCIDE!\n 
 https://www.indybay.org/newsitems/2012/05/25/18714092.php
SUMMARY:National Day of Justice for Trayvon Martin!
LOCATION:Oscar Grant Plaza (aka Frank Ogawa Plaza), 14th and Broadway, Oakland CA
URL:https://www.indybay.org/newsitems/2012/05/25/18714092.php
DTSTART:20120606T000000Z
DTEND:20120606T020000Z
END:VEVENT
END:VCALENDAR
