BEGIN:VCALENDAR
VERSION:2.0
X-WR-CALNAME:www.indybay.org
PRODID:-//indybay/ical// v1.0//EN
BEGIN:VEVENT
UID:Indybay-18714059
SEQUENCE:18808547
CREATED:20120524T195300Z
DESCRIPTION:An Occupy work party for People's Park:\n\nGardening\nMake prayer 
 flags\nYearly maintenance on the stage\n 
 https://www.indybay.org/newsitems/2012/05/24/18714059.php
SUMMARY:Occupy Work Party in People's Park
LOCATION:People's Park, Berkeley
URL:https://www.indybay.org/newsitems/2012/05/24/18714059.php
DTSTART:20120526T180000Z
DTEND:20120526T210000Z
END:VEVENT
END:VCALENDAR
