BEGIN:VCALENDAR
VERSION:2.0
X-WR-CALNAME:www.indybay.org
PRODID:-//indybay/ical// v1.0//EN
BEGIN:VEVENT
UID:Indybay-18713486
SEQUENCE:18807633
CREATED:20120514T235000Z
DESCRIPTION:Cuba is respected and admired by people all over the world for its social 
 accomplishments at home and abroad. However, the U.S. government continues 
 to present a distorted image of Cuba in order to justify its policy of 
 hostility, subversion and economic and political blockade.\n\nJoin our 
 panel of intellectuals and activists for an enlightening discussion about 
 the real Cuba.\n\nISAAC SANEY is a professor and lecturer on Cuba, 
 Caribbean political economy, law and human rights and African Canadian 
 history. Author of Cuba: A Revolution in Motion (2004).\n\nKEITH BOLENDER 
 is a freelance journalist living in Toronto. He writes extensively on Cuba 
 for North American publications. Author of Voices from the Other Side: An 
 Oral History of Terrorism Against Cuba (2010).\n\nSuggested donation: $5-10 
 (no one turned away)\n\nCo-sponsored by Human Agenda and the San Jose Peace 
 and Justice Center\n\n 
 https://www.indybay.org/newsitems/2012/05/14/18713486.php
SUMMARY:Cuba in Focus 2012
LOCATION:San Jose Peace and Justice Center\n48 South 7th Street\nSan Jose, CA 95112
URL:https://www.indybay.org/newsitems/2012/05/14/18713486.php
DTSTART:20120522T020000Z
DTEND:20120522T040000Z
END:VEVENT
END:VCALENDAR
