BEGIN:VCALENDAR
VERSION:2.0
X-WR-CALNAME:www.indybay.org
PRODID:-//indybay/ical// v1.0//EN
BEGIN:VEVENT
UID:Indybay-18713300
SEQUENCE:18807378
CREATED:20120511T065500Z
DESCRIPTION:18 year old high school senior Alan Blueford, was shot and killed by OPD at 
 midnight on May 6th in East Oakland.           Alan was a senior at Skyline 
 high school and was going to graduate in June 2012. After watching the 
 boxing fight Alan and two friends was on 90th and Birch. Two policeman were 
 driving by with their lights off. They approached Alan his two friends. 
 Alan ran down birch street and died due to three shots from OPD. After 
 those three shots, a fourth shot was heard. OPD sponsored "witnesses" said 
 the "suspect" was shooting at OPD and “believed the young men had a 
 concealed weapon.”\n\nLater OPD admitted via their website that the 
 officer shot himself. The other two friends were placed in custody for 6 
 hours and OPD took 2 hours to talk to the Blueford family. OPD still has 
 not released the name of the officer responsible for the murder after the 
 family requested it.  \n\n\n          This is another case of state 
 sponsored racist murder, following the incident of Oscar Grant and Travon 
 Martin. \n\n\n\nContact Information\nalanblueford@yahoo.ca\n\nFacebook 
 Page: \nJustice4AlanDBluefordandFamily\n\nVisit the Oscar Grant Committee 
 at  \n https://www.indybay.org/newsitems/2012/05/10/18713300.php
SUMMARY:VIGIL & MARCH for Justice for Alan Blueford, 18 year old killed by OPD May 6th 2012
LOCATION:Events:\n\nFriday, May 11, 2012 at 5pm - VIGIL\nOakland Police Department, 
 located at 455 7th Street, Oakland, CA 94607.\n\nSaturday, May 12, 2012 at 
 3:00PM – March for Justice for Alan Blueford\nBeginning:  9200 Birch 
 Street, Oakland, CA\nEnding: Eastmont Mall Police Sub-Station, located at 
 2652 73rd Avenue, Oakland, CA. \n
URL:https://www.indybay.org/newsitems/2012/05/10/18713300.php
DTSTART:20120512T000000Z
DTEND:20120512T020000Z
END:VEVENT
END:VCALENDAR
