BEGIN:VCALENDAR
VERSION:2.0
X-WR-CALNAME:www.indybay.org
PRODID:-//indybay/ical// v1.0//EN
BEGIN:VEVENT
UID:Indybay-18713042
SEQUENCE:18806944
CREATED:20120507T010300Z
DESCRIPTION:SAN Senior University Pedestrian Safety School\nMonday, May 14, 9 AM – 
 2:30 PM\n1360 Mission Street, Suite 400\n(betw.9th-10th Sts, # 14, 6, 9, 21 
 buses) \nSee map at http://tinyurl.com/89udgjr \n\nPedestrian deaths and 
 injuries are a major problem in San Francisco.  More than 800 people are 
 hit by cars in San Francisco each year, making it one of the most dangerous 
 cities in the state - and possibly the country - for pedestrians.  
 Residents over age 65 died at almost three times the rate as those under 
 age 65.  More pedestrians are hit inside crosswalks that outside 
 crosswalks.\n\nIn addition to emphasizing pedestrian vulnerability, he 
 Pedestrian Safety School will emphasize pedestrians’ rights to be free 
 from vehicle violations, unsafe street, sidewalk and crosswalk design, and 
 current pedestrian safety campaigns.  The School will also emphasize 
 pedestrians’ responsibilities and safe walking practices.\n 
 https://www.indybay.org/newsitems/2012/05/06/18713042.php
SUMMARY:SAN Senior University Pedestrian Safety School
LOCATION:1360 Mission Street, Suite 400\n(betw.9th-10th Sts, # 14, 6, 9, 21 buses) 
 \nSee map at http://tinyurl.com/89udgjr 
URL:https://www.indybay.org/newsitems/2012/05/06/18713042.php
DTSTART:20120514T160000Z
DTEND:20120514T220000Z
END:VEVENT
END:VCALENDAR
