BEGIN:VCALENDAR
VERSION:2.0
X-WR-CALNAME:www.indybay.org
PRODID:-//indybay/ical// v1.0//EN
BEGIN:VEVENT
UID:Indybay-18712467
SEQUENCE:18806020
CREATED:20120501T025200Z
DESCRIPTION: On Wednesday May 2nd, Come Join us for an interactive presentation on the 
 role of international students in the movement to overcome the 
 Israeli-Palestinian conflict. This will be a great opportunity to network 
 with students working on issues relating to Social Justice\nand 
 International Development both at home and abroad. \nSponsored by Silicon 
 Valley De-bug, South Bay 
 Mobilization\n\n\n\nhttp://www.facebook.com/#!/events/394795503876426/\n 
 \n\n\n https://www.indybay.org/newsitems/2012/04/30/18712467.php
SUMMARY:International students Activism in palestine
LOCATION:San Jose State University Engineering Auditorium \n
URL:https://www.indybay.org/newsitems/2012/04/30/18712467.php
DTSTART:20120503T020000Z
DTEND:20120503T040000Z
END:VEVENT
END:VCALENDAR
