BEGIN:VCALENDAR
VERSION:2.0
X-WR-CALNAME:www.indybay.org
PRODID:-//indybay/ical// v1.0//EN
BEGIN:VEVENT
UID:Indybay-18712282
SEQUENCE:18805952
CREATED:20120428T202300Z
DESCRIPTION:Join us for The People's Street Festival\nCelebrating International Workers 
 Day and the 99%\nA day of Protest, Performance, Art & Culture\nWe will be 
 reclaiming the financial district for the 99%!\nStreet Theater -- 
 Participatory Flashmob Dance -- Peoples' Assembly -- Silk Screens -- 
 Teach-ins -- And more!\nTuesday May 1st, 2012\n12 Noon\nGathering at 
 Montgomery & Market\nBring your own Activities that will Strengthen our 
 Struggle! We want everyone to participate and encourage 
 creativity!\n\nSponsored by: Occupy Solidarity Network, Jobs with Justice, 
 Progressive Workers Alliance, OccupySF Action Council, Occupy Education 
 NorCal and SF Labor Council.\n\n~+~+~+~+~+~+~\n\n1o de Mayo, 
 2012\n¡Únanos para el Festival de Calle del Pueblo!\nCelebrando El Día 
 Internacional de Trabajadores y el 99%\nUn día de Protesta, Espectáculo, 
 Arte y Cultura\n¡Recuperaremos el distrito financiero para el 99%!\nTeatro 
 Callejero – Baile Participatorio estilo Flashmob -- Asamblea del Pueblo 
 – Actividades de Arte – Talleres – ¡y mucho mas!\nMartes 1o de Mayo, 
 2012\n12pm\nReunirse en la Montgomery y Market\n¡Traigan sus propias 
 actividades que Fortalezcan nuestras Luchas! ¡Queremos que todos 
 participen y encomiamos la creatividad!\n\nPatrocinado por: Occupy Red de 
 Solidaridad, Trabajos con Justicia, La Alianza de Trabajadores Progresistas 
 de San Francisco, OccupySF Concilio de Acción, Occupy Educación del Norte 
 de Cal. y el Concilio Laboral de San Francisco.\n 
 https://www.indybay.org/newsitems/2012/04/28/18712282.php
SUMMARY:The People's Street Festival - El Festival de Calle del Pueblo!
LOCATION:Market & Montgomery\nhttp://tinyurl.com/7sy7g38
URL:https://www.indybay.org/newsitems/2012/04/28/18712282.php
DTSTART:20120501T190000Z
DTEND:20120501T210000Z
END:VEVENT
END:VCALENDAR
