BEGIN:VCALENDAR
VERSION:2.0
X-WR-CALNAME:www.indybay.org
PRODID:-//indybay/ical// v1.0//EN
BEGIN:VEVENT
UID:Indybay-18712163
SEQUENCE:18805586
CREATED:20120427T003300Z
DESCRIPTION:2005NR101 minutes\nAfter losing their bearings, a group of Chilean soldiers 
 learns some lessons about their enemy's humanity in this dark comedy set 
 during the 1970s war between Chile and Argentina. Digging in where they 
 are, the troop soon discovers a nearby Argentinean platoon. Unsure how to 
 handle the situation, the two groups start passing notes via a stray dog, 
 and eventually achieve a wary camaraderie. Nicolas Saavedra, Erto Pantoja 
 and Victor Montero co-star.\n\n6:30 pm serve Chilean food\n7:00 pm 
 presentation\n7:15 pm Film\n \nShelby 
 Minister\n510-978-9076\nshelby.minister@yahoo.com\n 
 https://www.indybay.org/newsitems/2012/04/26/18712163.php
SUMMARY:Latin Film Night: Mi Mejor Enemigo
LOCATION:San Jose Peace And Justice Center\n48 South 7th Street \nSan Jose CA 
 95112\n
URL:https://www.indybay.org/newsitems/2012/04/26/18712163.php
DTSTART:20120505T013000Z
DTEND:20120505T040000Z
END:VEVENT
END:VCALENDAR
