BEGIN:VCALENDAR
VERSION:2.0
X-WR-CALNAME:www.indybay.org
PRODID:-//indybay/ical// v1.0//EN
BEGIN:VEVENT
UID:Indybay-18712157
SEQUENCE:18805550
CREATED:20120426T212300Z
DESCRIPTION:\n\n\nGreg Palast presents his investigation of the BP oil spill and talks 
 about the corruption that permeates the oil industry, the financial sector, 
 and government.  Greg plays the part of a hard-bitten detective.  He 
 participated in five movies and authored four books including Armed 
 Madhouse and The Best Democracy Money Can Buy. \nSource: Vulture's 
 Picnic\n\n\nThe world fears the U.S.\n\nEx-Senator and former U.S. 
 presidential candidate Mike Gravel says the U.S. is like a drunkard who 
 charges to war with any country who might pose a threat.\nSource: 'World 
 fears US as a war-hungry drunk' - ex-Senator \n\nPlay Program or 
 DownloadPart 1(mp3)Part 2(mp3)Part 3(mp3)Part 4(mp3)\nMusic includes Jay 
 Mankita - They Lied, Larry David - Earth to America, Rise Against - Hero Of 
 War, Jimi Hendrix - If 6 Was 9, Ozzy Osbourne - Black Rain, Peter Paul and 
 Mary - Greenland Whale Fisheries, Tom Lehrer - The Vatican Rag, Merle 
 Travis - Dark As a Dungeon, Dean Martin - That's Amore, Linda Tillery - 
 Jaime Moreno's Jam, Vera Lynn - We'll Met Again\n\nGreat Speeches and 
 Interviews' Past Programs\n\n\n\n\n 
 https://www.indybay.org/newsitems/2012/04/26/18712157.php
SUMMARY:An Expose Of Petroleum Pigs And Finance
LOCATION:Stream or download at http://greatspeechesandinterviews.blogspot.com/ 
 Broadcast at Access Sacramento at 
 http://www.live365.com/cgi-bin/mini.cgi?station_name=accesssacramento&site=pro&tm=6524\n
URL:https://www.indybay.org/newsitems/2012/04/26/18712157.php
DTSTART:20120430T010000Z
DTEND:20120430T030000Z
END:VEVENT
END:VCALENDAR
