BEGIN:VCALENDAR
VERSION:2.0
X-WR-CALNAME:www.indybay.org
PRODID:-//indybay/ical// v1.0//EN
BEGIN:VEVENT
UID:Indybay-18712097
SEQUENCE:18805455
CREATED:20120425T205400Z
DESCRIPTION:On Saturday, April 28 ATA Gallery's flagship exhibition series OTHER CINEMA 
 concludes its Psychedelia suite when cultural critic Christian Divine 
 returns with another mind-bending slide-show on cult cinema, this time 
 trippin’ on freak-out scenes in feature films. This kaleidoscopic genre, 
 peaking in the ‘60s and ‘70s, opened up an opportunity to directly 
 demonstrate a visionary experience in filmic terms.\n\nAmong the sensory 
 overload of B-fare, obscure anomalies, and even an occasional A-movie, we 
 grok the grooviest vignettes from The Trip, Head, Skidoo, The Tingler, Riot 
 on Sunset Strip, Wild in the Streets, Psych-Out, Easy Rider, 200 Motels, 
 The Big Cube, Performance, and myriad more.\n\nDivine has organized his 
 presentation in the shape of an actual trip, with a few longer 16mm 
 interludes (Hallucination Generation and Go Ask Alice).\n\nPLUS a 
 cautionary clip from LSD: Insight or Insanity, free Kool-Aid, and a liquid 
 light show!\n \nDoors open at 8pm; Show at 8:30pm.\n\n\n\n 
 https://www.indybay.org/newsitems/2012/04/25/18712097.php
SUMMARY:Christian Divine's Technicolor Dreams: Cinematic Psychedelia
LOCATION:Other Cinema @ Artists' Television Access\n992 Valencia Street\nSan 
 Francisco, CA 94110
URL:https://www.indybay.org/newsitems/2012/04/25/18712097.php
DTSTART:20120429T033000Z
DTEND:20120429T053000Z
END:VEVENT
END:VCALENDAR
