BEGIN:VCALENDAR
VERSION:2.0
X-WR-CALNAME:www.indybay.org
PRODID:-//indybay/ical// v1.0//EN
BEGIN:VEVENT
UID:Indybay-18712021
SEQUENCE:18805313
CREATED:20120424T190800Z
DESCRIPTION:Film: Granito: How to Nail a Dictator\nFollowed by a conversation with 
 Guatemalan Journalist and Human Rights Defender Iduvina Hernandez Batres 
 \n\nSuggested Donation: $5 to $10, no one turned away.\nADA accessible 
 space. \nLight refreshments served. \nBilingual Español 
 /Inglés\nSponsored by the Guatemala Human Rights Commission-USA and Bay 
 Area Latin America Solidarity Coalition (BALASC)\n 
 https://www.indybay.org/newsitems/2012/04/24/18712021.php
SUMMARY:Film: "Granito: How to Nail a Dictator" & Speaker Iduvina Hernandez Batres
LOCATION:First Unitarian Universalist Center\nMartin Luther King, Jr. Room\n1187 
 Franklin at Geary\nSan Francisco
URL:https://www.indybay.org/newsitems/2012/04/24/18712021.php
DTSTART:20120428T013000Z
DTEND:20120428T040000Z
END:VEVENT
END:VCALENDAR
