BEGIN:VCALENDAR
VERSION:2.0
X-WR-CALNAME:www.indybay.org
PRODID:-//indybay/ical// v1.0//EN
BEGIN:VEVENT
UID:Indybay-18711900
SEQUENCE:18805124
CREATED:20120423T050500Z
DESCRIPTION:Monkeys in Space and Outernational at Elbo Room (23 Apr 12) with The 
 American Economy\nhttp://www.songkick.com/concerts/1228404...\nTickets and 
 information for Monkeys in Space and Outernational’s upcoming concert 
 with The American Economy at Elbo Room in San Francisco on 23 April 2012.\n 
 https://www.indybay.org/newsitems/2012/04/22/18711900.php
SUMMARY:Outernational, the most Radical Band in the U.S.
LOCATION:the Elbo Room,
URL:https://www.indybay.org/newsitems/2012/04/22/18711900.php
DTSTART:20120424T033000Z
DTEND:20120424T063000Z
END:VEVENT
END:VCALENDAR
