BEGIN:VCALENDAR
VERSION:2.0
X-WR-CALNAME:www.indybay.org
PRODID:-//indybay/ical// v1.0//EN
BEGIN:VEVENT
UID:Indybay-18711731
SEQUENCE:18806066
CREATED:20120421T000500Z
DESCRIPTION:GENDER STRIKE @ Anti-Capitalist March to shut down the banks.\n 
 https://www.indybay.org/newsitems/2012/04/20/18711731.php
SUMMARY:M1 Oakland Gender Strike/General Strike
LOCATION:Snow Park, Oakland 
URL:https://www.indybay.org/newsitems/2012/04/20/18711731.php
DTSTART:20120501T153000Z
DTEND:20120501T153000Z
END:VEVENT
END:VCALENDAR
