BEGIN:VCALENDAR
VERSION:2.0
X-WR-CALNAME:www.indybay.org
PRODID:-//indybay/ical// v1.0//EN
BEGIN:VEVENT
UID:Indybay-18711614
SEQUENCE:18806093
CREATED:20120419T153400Z
DESCRIPTION:Join us at 11am for a short rally and march from City College to Civic 
 Center Plaza to kick-off the May 1st Day Without the 99% festivities. 
 \nHere is the current schedule of events:\n\n11am City College (Rally and 
 march to Civic Center) \n12pm Rally at Civic Center Plaza (speakers: 
 janitor, teacher, student, taxi driver, Occupy Labor Solidarity). March to 
 Wal-Mart site in Sherman Heights by 2pm\n2-4pm Occupy San Diego events at 
 Civic Center\n3:30 SDEA Rally at Roosevelt Middle and march to Board 
 Meeting\n4-6pm OSD Labor Solidarity Rally at Civic Center and march to 
 Chicano Park\n5:30pm Chicano Park Celebration\n 
 https://www.indybay.org/newsitems/2012/04/19/18711614.php
SUMMARY:May 1st Day of Action
LOCATION:Multiple locations. Begins at San Diego City College at 11 am. Park Blvd in 
 front of B-Bldg at San Diego City College\n
URL:https://www.indybay.org/newsitems/2012/04/19/18711614.php
DTSTART:20120501T180000Z
DTEND:20120502T010000Z
END:VEVENT
END:VCALENDAR
