BEGIN:VCALENDAR
VERSION:2.0
X-WR-CALNAME:www.indybay.org
PRODID:-//indybay/ical// v1.0//EN
BEGIN:VEVENT
UID:Indybay-18711541
SEQUENCE:18804644
CREATED:20120419T010400Z
DESCRIPTION:Tents. Tanks. Tear gas. Smoke. Soldiers. Rocks. Riot police. Peace signs. 
 Fists. Fire. Flags. Guns. Graffiti. Blood. Martyrs. Military rule. 
 Anarchy… Through it all, photojournalist Shadi Rahimi saw love amid 
 revolution. She spent seven months witnessing a generation resist for big 
 ideas that had shifted from concept to overwhelming demand: Freedom. 
 Justice. Equality. Democracy. She has selected 30 photographs of moments 
 she hopes will take a visitor "beyond the headlines to feel why in some 
 places people are sacrificing it all for a different tomorrow."\n 
 https://www.indybay.org/newsitems/2012/04/18/18711541.php
SUMMARY:"Stand Your Ground. The Sun Is Rising" Egypt Photo Exhibit
LOCATION:Old Crow Tattoo and Gallery\n362 Grand Ave\nOakland CA 94610\n
URL:https://www.indybay.org/newsitems/2012/04/18/18711541.php
DTSTART:20120527T030000Z
DTEND:20120527T060000Z
END:VEVENT
END:VCALENDAR
