BEGIN:VCALENDAR
VERSION:2.0
X-WR-CALNAME:www.indybay.org
PRODID:-//indybay/ical// v1.0//EN
BEGIN:VEVENT
UID:Indybay-18711452
SEQUENCE:18804481
CREATED:20120417T041200Z
DESCRIPTION:San Francisco Green Film Festival co-presents:\n"One Day on Earth"\nGlobal 
 Screening Event with filmmaker Q&A\n\nBe a part of cinema history this 
 Earth Day and join countries around the world in the global screening of 
 "One Day on Earth", the first film made in every country of the world on 
 the same day. We see both the challenges and hopes of humanity from a 
 diverse group of volunteer filmmakers assembled by a participatory media 
 experiment. "One Day on Earth" is partnered with the United Nations, WWF, 
 The Red Cross/Red Crescent Movement and over 60 other NGO's worldwide. 
 http://www.onedayonearth.org\n\nDue to popular demand in San Francisco, a 
 screening is now confirmed through Tugg (a fun new way to get the films you 
 want in your local theater) for the Global Screening Event. All proceeds 
 made on the event will go to support screenings in the developing world. 
 Please come to enjoy the film, meet local participating filmmakers, and 
 share your thoughts on this historic piece of cinema.\n\nJoin a few of the 
 participating filmmakers, Jeffrey Hickey and Karen Kiser, Robert Hammond, 
 and Laura Murphy for a special Q&A after the screening!\n\nTickets $9 at 
 http://www.tugg.com/events/486\n 
 https://www.indybay.org/newsitems/2012/04/16/18711452.php
SUMMARY:"One Day On Earth" Global Screening Event with filmmaker Q&A
LOCATION:Roxie Theater\n3117 16th Street\nSan Francisco
URL:https://www.indybay.org/newsitems/2012/04/16/18711452.php
DTSTART:20120422T230000Z
DTEND:20120423T013000Z
END:VEVENT
END:VCALENDAR
