BEGIN:VCALENDAR
VERSION:2.0
X-WR-CALNAME:www.indybay.org
PRODID:-//indybay/ical// v1.0//EN
BEGIN:VEVENT
UID:Indybay-18711316
SEQUENCE:18804296
CREATED:20120414T182000Z
DESCRIPTION: San Anselmo Nonprofit The Bicycle Works will be leading a "Superhero 
 Community Service Bike Ride" to the Earth Day Marin Festival a free event 
 at the Civic Center Lagoon Park. Participants should meet at The Bicycle 
 Works, at 1117 San Anselmo Avenue  San Anselmo, CA 94960 at 10:00am, 
 leaving Promptly at 10:30am. Bring cool bikes, silly super hero costumes, 
 and your super powers for a fun ride from San Anselmo to Terra Linda via 
 central San Rafael. For those leaving from Southern Marin or from San 
 Rafael meet the ride at exactly 10:45 at the 4th street Plaza in front of 
 Arizmendi Bakery. The ride will go at a slow and easy pace.\n\nThe Bicycle 
 Works is offering a great prize for one lucky person who rides his or her 
 bike to Earth Day Marin: a Yuba Mundo cargo bike frame and fork set, one 
 year membership, and a $100 coupon for parts and accessories with a total 
 value of over $1000. Get a ticket at the Marin County Bicycle Coalition 
 valet parking site and bring it to the Bicycle Works booth. The raffle will 
 be drawn at 4:45pm! \n\nThe Bicycle Works: 
 http://www.thebicycleworks.org/\nMarin County Bicycle Coalition: 
 http://www.marinbike.org\nEarth Day Marin 
 http://www.EarthDayMarin.org\n\n\nVisit http://www.EarthDayMarin.org\nDATE 
 & TIME: \nSaturday, April 21 \n11:00am-6:00pm \n\nLOCATION: \nMarin Civic 
 Center Lagoon Park \nCivic Center Drive and Armory Drive \nSan Rafael, CA 
 94903 \nhttp://www.marincounty.org/Depts/PK/Divisions/Parks/Lagoon-Park 
 \n\n\n\n https://www.indybay.org/newsitems/2012/04/14/18711316.php
SUMMARY:Earth Day - Bike Ride
LOCATION:1117 San Anselmo Ave, San Anselmo, CA 94960
URL:https://www.indybay.org/newsitems/2012/04/14/18711316.php
DTSTART:20120421T170000Z
DTEND:20120421T180000Z
END:VEVENT
END:VCALENDAR
