BEGIN:VCALENDAR
VERSION:2.0
X-WR-CALNAME:www.indybay.org
PRODID:-//indybay/ical// v1.0//EN
BEGIN:VEVENT
UID:Indybay-18711107
SEQUENCE:18804009
CREATED:20120411T045500Z
DESCRIPTION:We call on our comrades from every corner of the Bay to descend upon 
 Dolores Park, 8pm April 30th, for a ruckus street party to counter 
 gentrification, capitalism, and the policing of our 
 communities.\n\nEveryday should be strike day. \n\nThey've stolen our 
 lives. They've stolen our health. They're taking over every inch of our 
 cities and pushing us nowhere. If there is anything we have learned from 
 the last six months it is this: May 1st isn't the only day for striking, 
 and isn't only a day for workers. April 30th kicks off a string of actions 
 in the Bay Area against all who would take our lives from us.\n\nSan 
 Francisco, once a stronghold of the dispossessed, has become a playground 
 for the rich and a living hell for those of us who can't keep up or have no 
 interest in capitalist relations. Homelessness, gentrification, racist 
 police murders, the displacement of all that is queer, outrageous rent 
 prices, our list is endless: it is time to reclaim our playground.\n\nWe 
 call on our comrades from every corner of the Bay to descend upon Dolores 
 Park, 8pm April 30th, for a ruckus street party to counter gentrification, 
 capitalism, and the policing of our communities.\n\nEveryday should be 
 strike day.\n\nDolores Park 8pm April 30, 2012\n\nSpanish translation 
 fliers coming soon!\n 
 https://www.indybay.org/newsitems/2012/04/10/18711107.php
SUMMARY:The Strike Starts Early
LOCATION:Dolores Park, SF
URL:https://www.indybay.org/newsitems/2012/04/10/18711107.php
DTSTART:20120501T030000Z
DTEND:20120501T060000Z
END:VEVENT
END:VCALENDAR
