BEGIN:VCALENDAR
VERSION:2.0
X-WR-CALNAME:www.indybay.org
PRODID:-//indybay/ical// v1.0//EN
BEGIN:VEVENT
UID:Indybay-18710991
SEQUENCE:18803815
CREATED:20120409T033500Z
DESCRIPTION:Oscar Grant, Troy Davis, and Trayvon Martin. We know what they have in 
 common. They were black men killed by white men with guns- a BART cop, a 
 death row guard, and a Crimewatch vigilante. The second thing they had in 
 common was that each killing was given a certain approbation and legitimacy 
 by the white power structure- the California judicial machine, the Georgia 
 court system, and the Sanford, Florida police. The details of how this 
 occurred in each case take on new meaning as soon as we recognize a common 
 thread, and a common structure to each of these killings. Speaker: Steve 
 Martinot.\n\nSponsored by the BFUU Social Justice Ctee \nSuggested donation 
 $5-$10. No one turned away. \nWheelchair 
 accessible.\n\nPh:510-841-4824\n\nFor occasional email notices of 
 peace/eco/social justice alerts and related events at BFUU, send any email 
 to:\nbfuusjev-subscribe@lists.riseup.net\n\nFor weekly notices of BFUU 
 services etc. go to:\nwww.bfuu.org/signup.html\n\n 
 https://www.indybay.org/newsitems/2012/04/08/18710991.php
SUMMARY:Steve Martinot: Trayvon Martin & the Structures of Racialization
LOCATION:Berkeley Fellowship of Unitarian Universalists’ Hall \n1924 Cedar 
 (@Bonita), Berkeley   www.bfuu.org\n
URL:https://www.indybay.org/newsitems/2012/04/08/18710991.php
DTSTART:20120420T020000Z
DTEND:20120420T040000Z
END:VEVENT
END:VCALENDAR
