BEGIN:VCALENDAR
VERSION:2.0
X-WR-CALNAME:www.indybay.org
PRODID:-//indybay/ical// v1.0//EN
BEGIN:VEVENT
UID:Indybay-18710691
SEQUENCE:18803400
CREATED:20120404T045400Z
DESCRIPTION:Join us for a special evening to benefit One Home Many Hopes, a grassroots 
 non profit which rescues, houses and educates orphaned and abandoned girls 
 in Mtwapa, Kenya.  OHMH educates and empowers these young women to create 
 change in their communities.\n\nEnjoy art from the BEAT generation. Listen 
 to the BEAT of live jazz. Help BEAT gender inequality and educate children 
 in Kenya. \n\nOHMH co-founders Thomas Keown and Anthony Mulungo from Kenya 
 will speak at 7:30pm, and a live auction and music will follow. Wine, beer, 
 and hors d'oeuvres included.  \n\n100% of proceeds will benefit the girls 
 and school being built for 720 impoverished children in the Mtwapa 
 community. \n\nBuy tickets on eventbrite in advance for less!  And check 
 out our website for more info on our organization: 
 http://www.onehomemanyhopes.org\n 
 https://www.indybay.org/newsitems/2012/04/03/18710691.php
SUMMARY:Get on the BEAT: An Evening Benefit at Meridian Gallery
LOCATION:Meridian Gallery\n535 Powell St.\nSan Francisco, CA 94108
URL:https://www.indybay.org/newsitems/2012/04/03/18710691.php
DTSTART:20120504T010000Z
DTEND:20120504T040000Z
END:VEVENT
END:VCALENDAR
