BEGIN:VCALENDAR
VERSION:2.0
X-WR-CALNAME:www.indybay.org
PRODID:-//indybay/ical// v1.0//EN
BEGIN:VEVENT
UID:Indybay-18710597
SEQUENCE:18803274
CREATED:20120402T204300Z
DESCRIPTION:Our next VERY IMPORTANT (10 days before our BIG ACTION!!!)  NO WAR ON IRAN 
 meeting will be a CodePINK BRUNCH Saturday, April 7th, 11am at Bacheeso’s 
 Restaurant, 2650 Telegraph Ave, Berkeley (PLEASE note the change of 
 location – we will NOT meet at Mudraker’s this week), $8.90 all you can 
 eat. PLEASE RSVP by 5pm Friday evening 510-540-7007!\n\nWe NEED: a 
 portable, battery-operated projector!!! So we can show slideshow during our 
 action! PLEASE call or email if you have any ideas!\n\nProposed & Planned 
 Actions for the 17th thus far\n\n1)	Visual: large world suspended from 
 tent-shaped frame, with outlines of all the countries (off this continent) 
 & dates the U.S. has occupied, attacked, since 1798. 
 CodePINK\n\n2)	Timeline: long timeline of overt military events, laws, 
 institutional actions taken in this country to ensure and secure the 
 “American Dream” CodePINK\n\n3)	Letter from Iranian woman Sherri 
 AFSC\n\n4)	Photos of Iranians – or who the U.S. will kill next if we 
 don’t STAND UP! WCW?\n\n5)	Slide show of Iran – Gene? 
 Margot?\n\n6)	Redirecting our resources: asking people to spend their tax 
 dollars on people, not war: please bring money, food, books, bicycles, 
 medical supplies, plants, clothes, etc. and help us redirect our funds from 
 wars to what we REALLY want to spend our money on – Tax Resisters, Bay 
 Peace, EVERYONE\n\n7)	Street Theater & Spoken Word – Bay Peace, 
 TheatreWorks\n\n8)	Informational handouts – both about the U.S. budget, a 
 historical view of U.S. interference in Iran, END Occupation of AFGHANISTAN 
 – Courage to Resist, IVAW, Afghans for Peace \n\n9)	Singing – Lisa 
 Cohen, Stephanie \n\n10) Press Conference: Iran Resolution – Barbara 
 Lee\n\n https://www.indybay.org/newsitems/2012/04/02/18710597.php
SUMMARY:CodePINK BRUNCH: No War On Iran Organizing Meeting
LOCATION:Bacheeso's Restaurant\n2650 Telegraph Ave\nBerkeley, CA
URL:https://www.indybay.org/newsitems/2012/04/02/18710597.php
DTSTART:20120407T180000Z
DTEND:20120407T200000Z
END:VEVENT
END:VCALENDAR
