BEGIN:VCALENDAR
VERSION:2.0
X-WR-CALNAME:www.indybay.org
PRODID:-//indybay/ical// v1.0//EN
BEGIN:VEVENT
UID:Indybay-18710496
SEQUENCE:18803573
CREATED:20120401T062700Z
DESCRIPTION:The nationwide Never Alone tour will be coming to your town in April 2012, 
 featuring the usual suspects speaking about long-term anarchist prisoner 
 support. Focusing specifically on the cases of Eric McDavid and Marie 
 Mason, the tour will mark the spots where the events of these cases 
 unfolded, using multimedia presentations to bring the facts of these cases 
 to light.\n\nAs well as raising awareness and support for Eric and Marie, 
 the tour will also feature strategizing about how to more effectively grow 
 a culture of resistance that can breach the prison walls and sustain us and 
 our friends for the long term, a security culture beyond 101 workshop 
 (updated for 2012, now with extra tech!) and some awesome guest speakers. 
 Truly, you won’t want to miss this.\n\nSuggested donation $5-15, no one 
 turned away for lack of funds!\n 
 https://www.indybay.org/newsitems/2012/03/31/18710496.php
SUMMARY:Never Alone Tour
LOCATION:The Lavender Library\n1414 21st St., Sacto
URL:https://www.indybay.org/newsitems/2012/03/31/18710496.php
DTSTART:20120428T030000Z
DTEND:20120428T050000Z
END:VEVENT
END:VCALENDAR
