BEGIN:VCALENDAR
VERSION:2.0
X-WR-CALNAME:www.indybay.org
PRODID:-//indybay/ical// v1.0//EN
BEGIN:VEVENT
UID:Indybay-18710401
SEQUENCE:18802987
CREATED:20120330T160700Z
DESCRIPTION:After “the settling of accounts with Hegelian dialectic and Hegelian 
 philosophy as a whole” in his Economic and Political Manuscripts of 1844 
 and other works, Marx had little further to say on dialectics. His last 
 words on dialectics appear in his 1873 Afterward to Capital: “My 
 dialectic method is not only different from the Hegelian, but is its direct 
 opposite.” Marx entrusted to Engels the task of explaining dialectics. 
 With Marx’s assistance, Engels wrote Anti-Dühring, which  remains the 
 classic—and best—statement on Marxist dialectics, as Lenin recognized. 
 After brief introductions by Gene Ruyle and Bob Patenaude, everyone present 
 will be invited to contribute their views in an egalitarian discussion.\n 
 https://www.indybay.org/newsitems/2012/03/30/18710401.php
SUMMARY:On the materialist dialectic of Marx, Engels, and Lenin
LOCATION:Niebyl Proctor Marist Library\n6501 Telegraph Ave, Oakland, CA 
 94609\n(Between Alcatraz and 66th)\n
URL:https://www.indybay.org/newsitems/2012/03/30/18710401.php
DTSTART:20120401T173000Z
DTEND:20120401T193000Z
END:VEVENT
END:VCALENDAR
