BEGIN:VCALENDAR
VERSION:2.0
X-WR-CALNAME:www.indybay.org
PRODID:-//indybay/ical// v1.0//EN
BEGIN:VEVENT
UID:Indybay-18710287
SEQUENCE:18802850
CREATED:20120328T181400Z
DESCRIPTION:The International People’s Democratic Uhuru Movement and the Uhuru 
 Solidarity Movement invites your participation in the work to challenge the 
 police containment of the African community. \n\nGet involved in organizing 
 political actions, community forums, fundraising and outreach to combat the 
 colonial conditions experienced by African people inside Oakland the the 
 U.S.\nWriters, graphic designers, filmmakers, social media enthusiasts, 
 activists and other interested parties should join the 
 work.\n\n510-569-9620\n 
 https://www.indybay.org/newsitems/2012/03/28/18710287.php
SUMMARY:Wednesday Political Action Committee Meetings of the Uhuru Movement
LOCATION:Uhuru House, 7911 MacArthur Blvd, Oakland
URL:https://www.indybay.org/newsitems/2012/03/28/18710287.php
DTSTART:20120405T013000Z
DTEND:20120405T033000Z
END:VEVENT
END:VCALENDAR
