BEGIN:VCALENDAR
VERSION:2.0
X-WR-CALNAME:www.indybay.org
PRODID:-//indybay/ical// v1.0//EN
BEGIN:VEVENT
UID:Indybay-18710206
SEQUENCE:18802798
CREATED:20120327T233700Z
DESCRIPTION:DREAM Teach-In\n\nSaturday, April 21st, 2012\n1:00pm - 6:00pm\n\nTeach-in 
 registration: http://tinyurl.com/dreamofspring\n\nHigh school/middle school 
 students and educators are invited to learn how to start their own DREAM 
 Club at their school. Learn from existing DREAM Clubs about creating a 
 charter for your club, choosing your advisers, fundraising, creating safe 
 spaces and environments for AB540 students, and learn about a resolution 
 current local DREAM Clubs are presenting to their school board to support 
 AB540 students. \n\nKeynote speaker: Neidi Dominguez, UCSC SIN founding 
 member and current organizer\n\nAlso, an address by Luis Alejo and Bill 
 Monning, local California Assembly members and co-authors/signers of the 
 California DREAM Act\n\nDinner included for participants - Fundraising 
 dance after dinner (6pm and on)\n\nThis teach-in is only for students and 
 educators who are interested in learning how to create their own DREAM 
 Club! Please join us!\n\nRegister at http://www.tinyurl.com/dreamofspring\n 
 https://www.indybay.org/newsitems/2012/03/27/18710206.php
SUMMARY:DREAM Teach-In
LOCATION:Springfield Grange in Las Lomas/Pajaro (Salinas Rd./Elkhorn Rd.)
URL:https://www.indybay.org/newsitems/2012/03/27/18710206.php
DTSTART:20120421T200000Z
DTEND:20120422T010000Z
END:VEVENT
END:VCALENDAR
