BEGIN:VCALENDAR
VERSION:2.0
X-WR-CALNAME:www.indybay.org
PRODID:-//indybay/ical// v1.0//EN
BEGIN:VEVENT
UID:Indybay-18709292
SEQUENCE:18801518
CREATED:20120314T193100Z
DESCRIPTION:We are having a global day to bring about public awareness of anti-food 
 sharing laws which because they are little known are proliferating at an 
 incredible rate. Two specific states Florida and Texas are among the worst 
 offenders. These laws make it a criminal action punishable by arrest and 
 fine for one individual to share food with another individual in need. 
 These new laws make the only real way to completely eradicate  hunger by 
 food rescue a criminal action.  We must have all these laws rescinded and 
 stop any new laws of this nature from being passed.  This is the purpose of 
 this day.  This is to be a global day of  love and peace with food as its 
 centerpiece.\n https://www.indybay.org/newsitems/2012/03/14/18709292.php
SUMMARY:Food Is a Right Not a Privilege Day of Compassion
LOCATION:This event is to held globally in each small and large community all over 
 the world
URL:https://www.indybay.org/newsitems/2012/03/14/18709292.php
DTSTART:20120401T190000Z
DTEND:20120402T190000Z
END:VEVENT
END:VCALENDAR
