BEGIN:VCALENDAR
VERSION:2.0
X-WR-CALNAME:www.indybay.org
PRODID:-//indybay/ical// v1.0//EN
BEGIN:VEVENT
UID:Indybay-18708958
SEQUENCE:18801022
CREATED:20120308T051600Z
DESCRIPTION:As part of the Global day of action against Monsanto, the dead will rise 
 and Occupy the Monsanto owned subsidiary, Seminis Inc. in Salinas CA. 
 Support labeling of genetically modified food products, and seed 
 sovereignty. \n https://www.indybay.org/newsitems/2012/03/07/18708958.php
SUMMARY:"Occupy Monsanto" GMO Zombie Apocalypse Occupation
LOCATION:Seminis Inc., 590 Brunken Ave, Salinas, CA.
URL:https://www.indybay.org/newsitems/2012/03/07/18708958.php
DTSTART:20120316T140000Z
DTEND:20120317T020000Z
END:VEVENT
END:VCALENDAR
