BEGIN:VCALENDAR
VERSION:2.0
X-WR-CALNAME:www.indybay.org
PRODID:-//indybay/ical// v1.0//EN
BEGIN:VEVENT
UID:Indybay-18708953
SEQUENCE:18801024
CREATED:20120308T044000Z
DESCRIPTION:Wednesday March 14  7 p.m.\nSanta Cruz Premiere of FUKUSHIMA NEVER AGAIN 
 (2012) with the filmmakers Kazmi Torii and Steve Zeltser\nDiscussion with 
 Torii and Zeltser follows the screening\nResource Center for Nonviolence, 
 new location, 612 Ocean St, Santa Cruz\n$5-$15 with no one turned away for 
 lack of funds\n\nThe RCNV hosts the Santa Cruz premiere of the documentary 
 Fukushima Never Again to mark the first anniversary of the Fukushima 
 Daiichi nuclear power plant meltdown.  Filmmakers Steve Zeltzer and Kazmi 
 Torii will screen their film and lead discussion afterwards. The 
 documentary, which was completed in February of this year, features 
 interviews with activists, labor leaders, government and nuclear utility 
 officials as well as footage from the devastated areas, demonstrations and 
 meetings concerned with the disaster. Tons of water are still being run 
 through the damaged reactors in Fukushima to keep them cool enough to avoid 
 a chain reaction.\n\n 
 https://www.indybay.org/newsitems/2012/03/07/18708953.php
SUMMARY:Documentary FUKUSHIMA NEVER AGAIN, with the Filmmakers
LOCATION:Resource Center for Nonviolence, NEW LOCATION 612 Ocean St, Santa Cruz
URL:https://www.indybay.org/newsitems/2012/03/07/18708953.php
DTSTART:20120315T020000Z
DTEND:20120315T040000Z
END:VEVENT
END:VCALENDAR
