BEGIN:VCALENDAR
VERSION:2.0
X-WR-CALNAME:www.indybay.org
PRODID:-//indybay/ical// v1.0//EN
BEGIN:VEVENT
UID:Indybay-18708834
SEQUENCE:18800876
CREATED:20120306T210000Z
DESCRIPTION:THE SECRET HISTORY OF LOVE\nby Sean Dorsey Dance  \n\nMarch 29-April 1, 
 2012  (Thurs-Fri 8pm / Sat-Sun 4pm & 8pm)\nDance Mission Theater (3316 24th 
 Street @ Mission, SF)\nTix: $15-25 sliding scale 
 http://www.brownpapertickets.com/event/232217\nInfo: 
 www.seandorseydance.com  \n\nThe Secret History Of Love reveals the 
 underground ways that queer and transgender people managed to find – and 
 LOVE – each other in decades past, and is based on real life stories of 
 LGBT elders. From 1920's speakeasies to wartime love affairs to underground 
 cabarets, the "love that dared not speak its name" explodes onstage in this 
 powerful all-new dance theater production by award-winning transgender 
 trailblazer Sean Dorsey.\n\nThe Secret History Of Love is the culmination 
 of a two-year community research process in which Dorsey conducted archival 
 research and directed a national LGBT Elders Oral History Project. The 
 Secret History Of Love features the recorded voices and stories of these 
 elders, along with powerful, moving and hilarious episodes from our 
 community's buried history of love.\n\nThe Secret History Of Love features 
 an outstanding cast of performers: Sean Dorsey, Juan De La Rosa, Brian 
 Fisher, Nol Simonse and Shawna Virago. More info at 
 www.seandorseydance.com. \n\n"breathtaking beauty" (San Francisco Bay 
 Times)\n"exquisite…poignant and important" (BalletTanz)\n"San 
 Francisco’s Best Dance/Performance Company"  (SF Weekly)\n\n 
 https://www.indybay.org/newsitems/2012/03/06/18708834.php
SUMMARY:The Secret History Of Love
LOCATION:Dance Mission\n3316 24th Street @Mission, SF
URL:https://www.indybay.org/newsitems/2012/03/06/18708834.php
DTSTART:20120401T230000Z
DTEND:20120402T010000Z
END:VEVENT
END:VCALENDAR
