BEGIN:VCALENDAR
VERSION:2.0
X-WR-CALNAME:www.indybay.org
PRODID:-//indybay/ical// v1.0//EN
BEGIN:VEVENT
UID:Indybay-18707141
SEQUENCE:18798562
CREATED:20120212T051700Z
DESCRIPTION:In this class and discussion we will explore the question of immigrants in 
 US labor movements and labor history. As we look forward to the May 1 
 mobilizations, a day that has historically brought labor and immigrant 
 rights issues together in San Jose, this class will help us to explore how 
 these struggles are still connected to one another.\n\nFacilitator: Sandy 
 Perry\n\nWe share this learning space with CHAM Ministries, and encourage 
 people of all faiths to join us in this political discussion.\n 
 https://www.indybay.org/newsitems/2012/02/11/18707141.php
SUMMARY:Immigrants In US Labor History
LOCATION:CHAM Office\n949 E. San Fernando St., San Jose
URL:https://www.indybay.org/newsitems/2012/02/11/18707141.php
DTSTART:20120224T030000Z
DTEND:20120224T050000Z
END:VEVENT
END:VCALENDAR
