BEGIN:VCALENDAR
VERSION:2.0
X-WR-CALNAME:www.indybay.org
PRODID:-//indybay/ical// v1.0//EN
BEGIN:VEVENT
UID:Indybay-18706968
SEQUENCE:18798317
CREATED:20120209T124800Z
DESCRIPTION:	99%er Neighborhood Make Bake Grow Sew Sidewalk Sale!\nSTART DATE: 
 	Saturday February 11\nTIME: 	9:00 AM - 2:00 PM\nLocation Details:\nStudent 
 Ln / Mossbrook Circle / Fallbrook Ave in west San Jose\n(near Moreland 
 Middle School & Westgate Mall)\nEvent Type: 	Fundraiser\nContact 
 Name	Betty\nEmail Address	bettybeekeeper [at] gmail.com\nPhone 
 Number	\nAddress	\nNEIGHBORHOOD 'MAKE-BAKE-SEW-GROW' SIDEWALK SALE/garage 
 sales\n\nLocation: Mossbrook Circle, Student Ln, Fallbrook Ave in West San 
 Jose (by Moreland Middle School & Westgate Mall)\n\nHomemade art/crafts, 
 regular garage sale items, baked goods, Valentine's Day chocolates, art, 
 terrariums, organic backyard produce, heirloom seeds, rare plants, handmade 
 purses, Valentine's Day chocolates, sumptuous scarves made from recycled 
 sweaters, custom organic tea blends, you name it. We're a creative 
 'hood.\n\nI'll be selling organic, heirloom/rare seedlings & seeds, seed 
 bombs, teas, regular garage sale stuff, and maybe some of my art (if I get 
 it finished in time), fresh lemons & herbs, organic honey from hives in 
 Willow Glen.\n\n9am-5pm Feb 11 & 12th.\n\nThis sale supports my Occupy 
 activism & the struggling 99%ers in my neighborhood. Please share with your 
 friends & family. \n 
 https://www.indybay.org/newsitems/2012/02/09/18706968.php
SUMMARY:MAKE-BAKE-GROW-SEW 99%er neighborhood DIY sale!
LOCATION:Student Lane / Fallbrook Ave / Mossbrook Circle in San Jose, near Westgate 
 Mall & Moreland Middle School \nzip: 95130
URL:https://www.indybay.org/newsitems/2012/02/09/18706968.php
DTSTART:20120212T170000Z
DTEND:20120213T010000Z
END:VEVENT
END:VCALENDAR
