BEGIN:VCALENDAR
VERSION:2.0
X-WR-CALNAME:www.indybay.org
PRODID:-//indybay/ical// v1.0//EN
BEGIN:VEVENT
UID:Indybay-18706871
SEQUENCE:18798199
CREATED:20120208T041800Z
DESCRIPTION:Rally and March Against Police Repression of Occupy! Our right to assemble 
 is being attacked! The Occupy movement in SF, Oakland and nationwide has 
 been brutally repressed by the growing police & surveillance state! SFPD 
 continues to brutally harass occupiers at the Fed. Meanwhile, poor people, 
 people of color and the homeless face vicious police brutality at the hands 
 of SFPD EVERY DAY! This time we say enough, Fight Back! Long Live the SF 
 Commune! FREE OSF'S MICHAEL "ROVER" CHAPIN!!!\n 
 https://www.indybay.org/newsitems/2012/02/07/18706871.php
SUMMARY:#OccupySF March Against Police Repression
LOCATION:Meet at #OSF, the Federal Reserve Bank of SF, 101 Market St. , San 
 Francisco, CA
URL:https://www.indybay.org/newsitems/2012/02/07/18706871.php
DTSTART:20120211T020000Z
DTEND:20120211T050000Z
END:VEVENT
END:VCALENDAR
