BEGIN:VCALENDAR
VERSION:2.0
X-WR-CALNAME:www.indybay.org
PRODID:-//indybay/ical// v1.0//EN
BEGIN:VEVENT
UID:Indybay-18706822
SEQUENCE:18798138
CREATED:20120207T191900Z
DESCRIPTION:A Forum and discussion on ways elders can contribute to the Occupy 
 Movement.\nSpeakers Tova Fry from Occupy Oakland, Occupy Bernal on 
 foreclosures, Ginny Jordan, of  Occupy Bernal's  WOW-Wild Old Women, who 
 occupied BofA.\nFebruary 21, 1PM Unitarian Universalist Center, 1187 
 Franklin,San Francisco\nWheel chair accessible, Sponsored by Gray Panthers 
 of San Franciso\n\n\n 
 https://www.indybay.org/newsitems/2012/02/07/18706822.php
SUMMARY:How Elders Can Be Part of Occupy: The American Spring!
LOCATION:Unitarian Universalist Center, 1187 Franklin, San Francisco
URL:https://www.indybay.org/newsitems/2012/02/07/18706822.php
DTSTART:20120221T210000Z
DTEND:20120221T230000Z
END:VEVENT
END:VCALENDAR
