BEGIN:VCALENDAR
VERSION:2.0
X-WR-CALNAME:www.indybay.org
PRODID:-//indybay/ical// v1.0//EN
BEGIN:VEVENT
UID:Indybay-18706539
SEQUENCE:18797736
CREATED:20120203T222900Z
DESCRIPTION:Bay Area book tour, free public forum with J. Patrick O’Connor, author of 
 SCAPEGOAT: The Chino Hills Murders and the Framing of Kevin Cooper and The 
 Framing of Mumia Abu-Jamal.\n\nO’Connor will be accompanied by Norman 
 Hile, attorney for Kevin Cooper, and we will hear a special message from 
 Cooper from San Quentin’s death row\n\nKevin Cooper was falsely convicted 
 of the brutal murders of a Chino Hills, California family and a young 
 houseguest in 1985 and has been on death row at San Quentin ever since. 
 SCAPEGOAT shows how the “justice system” has failed him at almost every 
 turn. If it were not for a court-ordered moratorium on executions in 
 California over the lethal injection controversy, Cooper – with no 
 appeals remaining – would have been executed by now. It is expected the 
 moratorium will be lifted in late 2012 or early 2013.\n 
 https://www.indybay.org/newsitems/2012/02/03/18706539.php
SUMMARY:Book Tour: "Scapegoat: The Chino Hills Murders and the Framing of Kevin Cooper"
LOCATION:909 12th Street\nSacramento, CA
URL:https://www.indybay.org/newsitems/2012/02/03/18706539.php
DTSTART:20120210T030000Z
DTEND:20120210T050000Z
END:VEVENT
END:VCALENDAR
