BEGIN:VCALENDAR
VERSION:2.0
X-WR-CALNAME:www.indybay.org
PRODID:-//indybay/ical// v1.0//EN
BEGIN:VEVENT
UID:Indybay-18706268
SEQUENCE:18797343
CREATED:20120201T034200Z
DESCRIPTION:Esta junta estará disponible en español\n\nPSL Forum and 
 discussion\nTarget Iran: U.S. escalates regime-change campaign\n\nFriday, 
 February 3, 7pm\n2969 Mission St., San Francisco\n\nThe U.S. campaign to 
 bring about “regime change” in Iran is escalating, with harsh economic 
 sanctions, covert actions, assassinations of Iranian scientists and more. 
 Nuclear weapon-equipped U.S. aircraft carriers and Trident submarines are 
 stationed right off Iran’s coast, raising the danger of a new war.\n\nThe 
 Hidden History of the U.S. & Iran: Myths & Realities\nThe mainstream media 
 here constantly projects the image of Iran as a threat and an aggressor. 
 But the real history of the relationship between the U.S. and Iran has been 
 hidden from the people here\n\nJoin us for informative presentations and 
 discussion.\n\n2969 Mission St. San Francisco\n\n$3 - $5 donation 
 requested, no one turned away for lack of funds.\n(Refreshments served. 
 Cross street 25th and 26th. Near 24th St. BART. MUNI #14, 49. For more info 
 contact PSL at 415-821-6171.\n\nCheck out our website: 
 http://www.pslweb.org\nDaily News & Analysis from a Marxist Perspective. 
 The Party for Socialism and Liberation has a website filled with great 
 political material from a Marxist perspective. On it, you can get news and 
 analysis, breaking stories, learn about PSL events across the country, 
 download audio and video and other political resources, find out how to get 
 involved with the PSL and much more. Go to the website and look around, 
 bookmark it and share it with your friends and family. Check  
 http://www.pslweb.org each day for updated information and news. Make 
 socialism a part of your everyday life!\n\nSubscribe: check out our 
 bi-weekly newspaper Liberation\nGet a Marxist analysis of the critical 
 political developments of the day, reports on liberation struggles around 
 the world, and educational articles with content that every activist should 
 learn. Go to  http://www.pslweb.org to read current selections and back 
 issues and to find out how to subscribe. Liberation is our biweekly 
 newspaper. Go to  http://www.pslweb.org to read it and find out more about 
 the working class struggle.\n\n\nForo y Discusion de Partido para 
 Socialismo y Liberación\nIrán en la Mira: EE.UU. incrementa 
 campaña\npara cambiar régimen\n\nviernes, 3 de febrero, 7pm\n2969 Calle 
 Mission, San Francisco\n\nLa campana estadounidense para forzar “cambio 
 de régimen” en Irán esta incrementando con fuertes sanciones 
 económicas, maniobras clandestinas, asesinatos de científicos iraníes y 
 mas. Aviones con capacidad nuclear y submarinos “Tridant” de los EE.UU. 
 están estacionados a las afueras de la costa de Irán, aumentando el 
 peligro de una nueva guerra.\n\nLa historia oculta de los EE.UU. y Irán: 
 Mitos y Realidades\nLos medios corporativos de aquí constantemente pinta 
 la imagen de Irán como una amenaza y un agresor. Pero la historia 
 verdadera de la relación entre los EE.UU. y Irán la han escondido de la 
 gente aquí.\n\nÚnase con nosotros para presentaciones y discusiones 
 informativas.\n\n2969 calle de Mission\n\nSugerimos una donación de $3 a 
 $5, todos bienvenidos, con o sin fondos.\n(Habrá antojitos. Esquiná de la 
 calle 25 y 26, acerca de BART/24 St., MUNI #14, 49)\n\nPara mayor 
 información llame al PSL, en 415-821-6171.\n\nVisite nuestra página web: 
 http://www.pslweb.org\nDel día y análisis desde un punto de vista 
 Marxista. El Partido para el Socialismo y Liberación tiene una página web 
 llena de gran material político desde un punto de vista Marxista. En la 
 página, obtendrá noticias y análisis, noticias del momento, y aprenderá 
 sobre eventos del PSL por todo el país. Puede bajar audio y video y otros 
 recursos políticos, encontrará información de cómo involucrarse con el 
 PSL, y mucho más. Vaya a nuest ra página web y explórela, márquela y 
 compártela con sus amigos y familia. Visite http://www.pslweb.org cada 
 día para información actual y noticias. ¡Haga el socialismo parte de 
 cada día de su vida!\n\nSubscríbese al Liberación y revise nuestro 
 periódico bisemanal\nNoticias del día y análisis desde un punto de vista 
 Marxista. Liberación es una publicación de cada 15 días para activistas, 
 escrito por activistas. Recibe análisis socialista sobre acontecimientos 
 políticos críticos del día, reportes sobre luchas de liberación 
 alrededor del mundo, y artículos educativos con contenido que cada 
 activista debería aprender.\n\nVaya a http://www.pslweb.org para leer 
 selecciones actuales y publicaciones anteriores y para aprender como 
 subscribirse. Liberación es nuestro periódico bisemanal. Visite 
 http://www.pslweb.org para leerlo y encontrar más sobre la lucha de la 
 clase trabajadora.\n 
 https://www.indybay.org/newsitems/2012/01/31/18706268.php
SUMMARY:Forum/Foro: Target Iran: U.S. escalates regime-change campaign
LOCATION:2969 Mission St. San Francisco\n\n$3 - $5 donation requested, no one turned 
 away for lack of funds.\n(Refreshments served. Cross street 25th and 26th. 
 Near 24th St. BART. MUNI #14, 49. For more info contact PSL at 
 415-821-6171.\n\n\n2969 calle de Mission\n\nSugerimos una donación de $3 a 
 $5, todos bienvenidos, con o sin fondos.\n(Habrá antojitos. Esquiná de la 
 calle 25 y 26, acerca de BART/24 St., MUNI #14, 49)\n\nPara mayor 
 información llame al PSL, en 415-821-6171.\n\n
URL:https://www.indybay.org/newsitems/2012/01/31/18706268.php
DTSTART:20120204T030000Z
DTEND:20120204T050000Z
END:VEVENT
END:VCALENDAR
