BEGIN:VCALENDAR
VERSION:2.0
X-WR-CALNAME:www.indybay.org
PRODID:-//indybay/ical// v1.0//EN
BEGIN:VEVENT
UID:Indybay-18706107
SEQUENCE:18797120
CREATED:20120130T223200Z
DESCRIPTION:Editor Joanne Griffith and guests to discuss "Activism in the Age of Obama" 
 and her new book, Redefining Black Power: Reflections on the State of Black 
 America, at Marcus Books in Oakland.  Guests include Hodari Davis, National 
 Program Director for Youth Speaks with Dereca Blackmon, Social Justice 
 Activist.\n\nPrice: Free\n 
 https://www.indybay.org/newsitems/2012/01/30/18706107.php
SUMMARY:Activism in the Age of Obama
LOCATION:Marcus Books\n3900 Martin Luther King Jr. Way\nOakland, CA 94609
URL:https://www.indybay.org/newsitems/2012/01/30/18706107.php
DTSTART:20120209T160000Z
DTEND:20120209T180000Z
END:VEVENT
END:VCALENDAR
