BEGIN:VCALENDAR
VERSION:2.0
X-WR-CALNAME:www.indybay.org
PRODID:-//indybay/ical// v1.0//EN
BEGIN:VEVENT
UID:Indybay-18705858
SEQUENCE:18796814
CREATED:20120129T032500Z
DESCRIPTION:Learn more about the plans so far and bring your own ideas. Your help is 
 needed: this revolutionary Tour is getting ready to hit the road!And to  
 all our friends in the Central Valley, Bay Area and North Bay or out in 
 Davis: contact us to help with the Tour in your area or to invite the Tour 
 to your town or school!\n \nBAsics Bus Tour coming in February!!\n \n\nThe 
 BAsics Bus Tour, sponsored by Revolution Books, will travel to college 
 campuses, schools, community centers, from the mountains, to the valleys, 
 from the suburbs to the rural areas, from Southern to Northern California 
 in February. "Imagine buses with eye-catching decorations touring the 
 nation, spreading revolution and BA's voice to those hungry for it in 
 outlying areas..." This will hit the road starting from L.A. and travel 
 north, stopping along the way until it gets to Northern California. This 
 tour's experience will be recorded with regular updates posted online, 
 sharing their accomplishments and what they're learning with the world. It 
 will be a pilot project for a larger tour that will travel throughout the 
 U.S. later in the year.\n \nFunds and volunteers are needed right now.\n 
 \nWhat Can You Do?\n\n* If you think the BAsics bus tour should come to 
 your area, tell us why, where it should go, what it should do there. We 
 want to hear from you.\n \n* If you want to volunteer to be part of the 
 BAsics Bus Tour, come into Revolution Books and fill out an application.\n 
 \n*If you would like to donate funds to the tour, you can send a check to 
 Revolution Books, 2425 Channing Way, Berkeley, CA 94704. In the memo line, 
 please write, "Bus Tour" or you can send a donation through Pay-Pal on the 
 bookstore's website, www.revolutionbooks.org. Please send us an email at 
 revolutionbooks@sbcglobal.net telling us your donation is for the bus 
 tour.\n \n* You can read more about the campaign and experiences in other 
 parts of the country at www.revcom.us.\n \n* Fundraising parties, bake 
 sales, garage sales are some of the ways funds can be raised. Let us know 
 your plans so others can contribute to them.\n \nThings We Need for the 
 Tour:\n \n* laptops\n* dvd players\n* IPOD/mp3 players\n* a Generator\n* a 
 free standing projection screen\n* a projector that can project outdoors 
 onto large surfaces\n* audio sound system, including speakers, 4 channel 
 mixer, microphones and cables\n \nPlease let us know if you have any of 
 these things to lend or if you would like to donate funds so they can be 
 purchased.\n\n\n https://www.indybay.org/newsitems/2012/01/28/18705858.php
SUMMARY:Join us -- at a Brainstorming Meeting for the BAsics Bus Tour!
LOCATION:Revolution Books\n2425 Channing Way(in the Sather Gate Parking Mall off of 
 Telegraph Avenue).Wheelchair accessible,donations accepted.
URL:https://www.indybay.org/newsitems/2012/01/28/18705858.php
DTSTART:20120130T000000Z
DTEND:20120130T020000Z
END:VEVENT
END:VCALENDAR
